BEGIN:VCALENDAR
VERSION:2.0
PRODID:-//Corridas de Rua - RS - ECPv4.5.7//NONSGML v1.0//EN
CALSCALE:GREGORIAN
METHOD:PUBLISH
X-WR-CALNAME:Corridas de Rua - RS
X-ORIGINAL-URL:https://corridasderuars.com.br
X-WR-CALDESC:Events for Corridas de Rua - RS
BEGIN:VEVENT
DTSTART;TZID=UTC+0:20170806T083000
DTEND;TZID=UTC+0:20170806T083000
DTSTAMP:20260420T021804
CREATED:20170801T193645Z
LAST-MODIFIED:20170801T193645Z
UID:2592-1502008200-1502008200@corridasderuars.com.br
SUMMARY:XXV Meia Maratona e Rústica ? 160 Anos Cidade de Passo Fundo
DESCRIPTION:
URL:https://corridasderuars.com.br/evento/xxv-meia-maratona-e-rustica-%c2%96-160-anos-cidade-de-passo-fundo/
CATEGORIES:21km,6.5km
ATTACH;FMTTYPE=image/jpeg:https://corridasderuars.com.br/wp-content/uploads/2017/07/bg33.jpg
END:VEVENT
END:VCALENDAR