BEGIN:VCALENDAR
VERSION:2.0
PRODID:-//Corridas de Rua - RS - ECPv4.5.7//NONSGML v1.0//EN
CALSCALE:GREGORIAN
METHOD:PUBLISH
X-WR-CALNAME:Corridas de Rua - RS
X-ORIGINAL-URL:https://corridasderuars.com.br
X-WR-CALDESC:Events for Corridas de Rua - RS
BEGIN:VEVENT
DTSTART;TZID=UTC+0:20181118T083000
DTEND;TZID=UTC+0:20181118T083000
DTSTAMP:20260419T233240
CREATED:20181018T171114Z
LAST-MODIFIED:20181018T171114Z
UID:4396-1542529800-1542529800@corridasderuars.com.br
SUMMARY:XV Minimaratona da Cidade de Não-Me-Toque
DESCRIPTION:
URL:https://corridasderuars.com.br/evento/xv-minimaratona-da-cidade-de-nao-me-toque/
CATEGORIES:5km
ATTACH;FMTTYPE=image/jpeg:https://corridasderuars.com.br/wp-content/uploads/2018/10/bg80.jpg
END:VEVENT
END:VCALENDAR