BEGIN:VCALENDAR
VERSION:2.0
PRODID:-//Corridas de Rua - RS - ECPv4.5.7//NONSGML v1.0//EN
CALSCALE:GREGORIAN
METHOD:PUBLISH
X-WR-CALNAME:Corridas de Rua - RS
X-ORIGINAL-URL:https://corridasderuars.com.br
X-WR-CALDESC:Events for Corridas de Rua - RS
BEGIN:VEVENT
DTSTART;TZID=UTC+0:20190331T080000
DTEND;TZID=UTC+0:20190331T080000
DTSTAMP:20260421T083747
CREATED:20190103T133048Z
LAST-MODIFIED:20190103T133048Z
UID:4649-1554019200-1554019200@corridasderuars.com.br
SUMMARY:Volta ao Lago Negro
DESCRIPTION:
URL:https://corridasderuars.com.br/evento/volta-ao-lago-negro-2/
CATEGORIES:15km,20km
ATTACH;FMTTYPE=image/jpeg:https://corridasderuars.com.br/wp-content/uploads/2017/12/bg44.jpg
END:VEVENT
END:VCALENDAR