BEGIN:VCALENDAR
VERSION:2.0
PRODID:-//Corridas de Rua - RS - ECPv4.5.7//NONSGML v1.0//EN
CALSCALE:GREGORIAN
METHOD:PUBLISH
X-WR-CALNAME:Corridas de Rua - RS
X-ORIGINAL-URL:https://corridasderuars.com.br
X-WR-CALDESC:Events for Corridas de Rua - RS
BEGIN:VEVENT
DTSTART;TZID=UTC+0:20181123T140000
DTEND;TZID=UTC+0:20181123T140000
DTSTAMP:20260421T114905
CREATED:20171110T173520Z
LAST-MODIFIED:20171228T194049Z
UID:3146-1542981600-1542981600@corridasderuars.com.br
SUMMARY:VII Etapa Cascatas e Montanhas
DESCRIPTION:
URL:https://corridasderuars.com.br/evento/vii-etapa-cascatas-e-montanhas/
CATEGORIES:10km,15km,25km,30km,5km
ATTACH;FMTTYPE=image/jpeg:https://corridasderuars.com.br/wp-content/uploads/2017/12/bg45.jpg
END:VEVENT
END:VCALENDAR