BEGIN:VCALENDAR
VERSION:2.0
PRODID:-//Corridas de Rua - RS - ECPv4.5.7//NONSGML v1.0//EN
CALSCALE:GREGORIAN
METHOD:PUBLISH
X-WR-CALNAME:Corridas de Rua - RS
X-ORIGINAL-URL:https://corridasderuars.com.br
X-WR-CALDESC:Events for Corridas de Rua - RS
BEGIN:VEVENT
DTSTART;TZID=UTC+0:20181006T150000
DTEND;TZID=UTC+0:20181006T150000
DTSTAMP:20260419T231339
CREATED:20180924T192535Z
LAST-MODIFIED:20180924T192535Z
UID:4288-1538838000-1538838000@corridasderuars.com.br
SUMMARY:VI Rústica Verzeri
DESCRIPTION:
URL:https://corridasderuars.com.br/evento/vi-rustica-verzeri/
CATEGORIES:5km
ATTACH;FMTTYPE=image/jpeg:https://corridasderuars.com.br/wp-content/uploads/2017/07/bg35.jpg
END:VEVENT
END:VCALENDAR