BEGIN:VCALENDAR
VERSION:2.0
PRODID:-//Corridas de Rua - RS - ECPv4.5.7//NONSGML v1.0//EN
CALSCALE:GREGORIAN
METHOD:PUBLISH
X-WR-CALNAME:Corridas de Rua - RS
X-ORIGINAL-URL:https://corridasderuars.com.br
X-WR-CALDESC:Events for Corridas de Rua - RS
BEGIN:VEVENT
DTSTART;TZID=UTC+0:20171118T210000
DTEND;TZID=UTC+0:20171118T210000
DTSTAMP:20260420T070923
CREATED:20171025T181222Z
LAST-MODIFIED:20171025T181222Z
UID:2946-1511038800-1511038800@corridasderuars.com.br
SUMMARY:Unimed Night Run
DESCRIPTION:
URL:https://corridasderuars.com.br/evento/unimed-night-run/
CATEGORIES:10km,3km,5km
ATTACH;FMTTYPE=image/jpeg:https://corridasderuars.com.br/wp-content/uploads/2017/07/bg27-1.jpg
END:VEVENT
END:VCALENDAR