BEGIN:VCALENDAR
VERSION:2.0
PRODID:-//Corridas de Rua - RS - ECPv4.5.7//NONSGML v1.0//EN
CALSCALE:GREGORIAN
METHOD:PUBLISH
X-WR-CALNAME:Corridas de Rua - RS
X-ORIGINAL-URL:https://corridasderuars.com.br
X-WR-CALDESC:Events for Corridas de Rua - RS
BEGIN:VEVENT
DTSTART;TZID=UTC+0:20211010T080000
DTEND;TZID=UTC+0:20211010T080000
DTSTAMP:20260421T102629
CREATED:20210917T171650Z
LAST-MODIFIED:20210917T171650Z
UID:7366-1633852800-1633852800@corridasderuars.com.br
SUMMARY:Ultramaratona 6 Horas - Cidade Histórica de Rio Grande
DESCRIPTION:
URL:https://corridasderuars.com.br/evento/ultramaratona-6-horas-cidade-historica-de-rio-grande/
CATEGORIES:6 horas
ATTACH;FMTTYPE=image/jpeg:https://corridasderuars.com.br/wp-content/uploads/2019/08/bg208.jpg
END:VEVENT
END:VCALENDAR