BEGIN:VCALENDAR
VERSION:2.0
PRODID:-//Corridas de Rua - RS - ECPv4.5.7//NONSGML v1.0//EN
CALSCALE:GREGORIAN
METHOD:PUBLISH
X-WR-CALNAME:Corridas de Rua - RS
X-ORIGINAL-URL:https://corridasderuars.com.br
X-WR-CALDESC:Events for Corridas de Rua - RS
BEGIN:VEVENT
DTSTART;TZID=UTC+0:20171104T140000
DTEND;TZID=UTC+0:20171104T140000
DTSTAMP:20260420T071045
CREATED:20170925T124618Z
LAST-MODIFIED:20170925T124749Z
UID:2855-1509804000-1509804000@corridasderuars.com.br
SUMMARY:Trilhos Tupancy 12 e 24k
DESCRIPTION:A Trail Run é basicamente uma competição com percurso em trajeto montanhoso ou trilhas A prova é feita em trilhas já definidas pela organização\, que disponibiliza postos de hidratação ao longo do caminho. \nOs atletas podem optar por fazer a corrida de 12 ou 24 Km\, sendo premiados os 5 primeiros colocados gerais femininos e masculinos de cada prova. A competição é individual\, e exige como equipamento obrigatório mochila de hidratação com pelo menos 1\,5l\, óculos de proteção e bandana. \n
URL:https://corridasderuars.com.br/evento/trilhos-tupancy-12-e-24k/
CATEGORIES:12km,24km
ATTACH;FMTTYPE=image/jpeg:https://corridasderuars.com.br/wp-content/uploads/2017/07/bgPraia.jpg
END:VEVENT
END:VCALENDAR