BEGIN:VCALENDAR
VERSION:2.0
PRODID:-//Corridas de Rua - RS - ECPv4.5.7//NONSGML v1.0//EN
CALSCALE:GREGORIAN
METHOD:PUBLISH
X-WR-CALNAME:Corridas de Rua - RS
X-ORIGINAL-URL:https://corridasderuars.com.br
X-WR-CALDESC:Events for Corridas de Rua - RS
BEGIN:VEVENT
DTSTART;TZID=UTC+0:20170819T140000
DTEND;TZID=UTC+0:20170819T140000
DTSTAMP:20260420T035259
CREATED:20170710T175428Z
LAST-MODIFIED:20170814T140638Z
UID:2355-1503151200-1503151200@corridasderuars.com.br
SUMMARY:Trilhas & Montanhas - 5ª Etapa - Serra dos Vales
DESCRIPTION:
URL:https://corridasderuars.com.br/evento/trilhas-montanhas-2017-5a-etapa-serra-dos-vales/
CATEGORIES:14km,21km,5km
ATTACH;FMTTYPE=image/jpeg:https://corridasderuars.com.br/wp-content/uploads/2017/07/bgCountry2.jpg
END:VEVENT
END:VCALENDAR