BEGIN:VCALENDAR
VERSION:2.0
PRODID:-//Corridas de Rua - RS - ECPv4.5.7//NONSGML v1.0//EN
CALSCALE:GREGORIAN
METHOD:PUBLISH
X-WR-CALNAME:Corridas de Rua - RS
X-ORIGINAL-URL:https://corridasderuars.com.br
X-WR-CALDESC:Events for Corridas de Rua - RS
BEGIN:VEVENT
DTSTART;TZID=UTC+0:20220212T090000
DTEND;TZID=UTC+0:20220212T090000
DTSTAMP:20260421T085034
CREATED:20210729T142748Z
LAST-MODIFIED:20210729T142748Z
UID:7253-1644656400-1644656400@corridasderuars.com.br
SUMMARY:Trilhas Dunas do Farol - 2ª Etapa
DESCRIPTION:
URL:https://corridasderuars.com.br/evento/trilhas-dunas-do-farol-2a-etapa/
CATEGORIES:10km,20km,5km
ATTACH;FMTTYPE=image/jpeg:https://corridasderuars.com.br/wp-content/uploads/2017/07/bg12-1.jpg
END:VEVENT
END:VCALENDAR