BEGIN:VCALENDAR
VERSION:2.0
PRODID:-//Corridas de Rua - RS - ECPv4.5.7//NONSGML v1.0//EN
CALSCALE:GREGORIAN
METHOD:PUBLISH
X-WR-CALNAME:Corridas de Rua - RS
X-ORIGINAL-URL:https://corridasderuars.com.br
X-WR-CALDESC:Events for Corridas de Rua - RS
BEGIN:VEVENT
DTSTART;TZID=UTC+0:20220423T070000
DTEND;TZID=UTC+0:20220423T070000
DTSTAMP:20260421T124727
CREATED:20211208T163219Z
LAST-MODIFIED:20211208T163219Z
UID:7614-1650697200-1650697200@corridasderuars.com.br
SUMMARY:Trilhas do Morro Gaúcho
DESCRIPTION:
URL:https://corridasderuars.com.br/evento/trilhas-do-morro-gaucho/
CATEGORIES:12km,21km,50km,6km
ATTACH;FMTTYPE=image/jpeg:https://corridasderuars.com.br/wp-content/uploads/2021/10/5.jpg
END:VEVENT
END:VCALENDAR