BEGIN:VCALENDAR
VERSION:2.0
PRODID:-//Corridas de Rua - RS - ECPv4.5.7//NONSGML v1.0//EN
CALSCALE:GREGORIAN
METHOD:PUBLISH
X-WR-CALNAME:Corridas de Rua - RS
X-ORIGINAL-URL:https://corridasderuars.com.br
X-WR-CALDESC:Events for Corridas de Rua - RS
BEGIN:VEVENT
DTSTART;TZID=UTC+0:20210814T100000
DTEND;TZID=UTC+0:20210814T100000
DTSTAMP:20260421T085216
CREATED:20210709T130931Z
LAST-MODIFIED:20210709T130931Z
UID:7221-1628935200-1628935200@corridasderuars.com.br
SUMMARY:Trilhas de Salto Ventoso
DESCRIPTION:
URL:https://corridasderuars.com.br/evento/trilhas-de-salto-ventoso/
CATEGORIES:13km,18km,6.5km
ATTACH;FMTTYPE=image/jpeg:https://corridasderuars.com.br/wp-content/uploads/2019/08/bg203.jpg
END:VEVENT
END:VCALENDAR