BEGIN:VCALENDAR
VERSION:2.0
PRODID:-//Corridas de Rua - RS - ECPv4.5.7//NONSGML v1.0//EN
CALSCALE:GREGORIAN
METHOD:PUBLISH
X-WR-CALNAME:Corridas de Rua - RS
X-ORIGINAL-URL:https://corridasderuars.com.br
X-WR-CALDESC:Events for Corridas de Rua - RS
BEGIN:VEVENT
DTSTART;TZID=UTC+0:20211120T120000
DTEND;TZID=UTC+0:20211120T120000
DTSTAMP:20260421T113103
CREATED:20211021T122430Z
LAST-MODIFIED:20211021T122430Z
UID:7467-1637409600-1637409600@corridasderuars.com.br
SUMMARY:Trilhas Arco Verde
DESCRIPTION:
URL:https://corridasderuars.com.br/evento/trilhas-arco-verde/
CATEGORIES:11.5km,22km,5.5km
ATTACH;FMTTYPE=image/jpeg:https://corridasderuars.com.br/wp-content/uploads/2021/10/4.jpg
END:VEVENT
END:VCALENDAR