BEGIN:VCALENDAR
VERSION:2.0
PRODID:-//Corridas de Rua - RS - ECPv4.5.7//NONSGML v1.0//EN
CALSCALE:GREGORIAN
METHOD:PUBLISH
X-WR-CALNAME:Corridas de Rua - RS
X-ORIGINAL-URL:https://corridasderuars.com.br
X-WR-CALDESC:Events for Corridas de Rua - RS
BEGIN:VEVENT
DTSTART;TZID=UTC+0:20181111T083000
DTEND;TZID=UTC+0:20181111T083000
DTSTAMP:20260419T231508
CREATED:20180109T135202Z
LAST-MODIFIED:20180109T135202Z
UID:3410-1541925000-1541925000@corridasderuars.com.br
SUMMARY:Treino Summer 48k
DESCRIPTION:
URL:https://corridasderuars.com.br/evento/treino-summer-48k/
CATEGORIES:17km,8km
ATTACH;FMTTYPE=image/jpeg:https://corridasderuars.com.br/wp-content/uploads/2017/07/bg25-1.jpg
END:VEVENT
END:VCALENDAR