BEGIN:VCALENDAR
VERSION:2.0
PRODID:-//Corridas de Rua - RS - ECPv4.5.7//NONSGML v1.0//EN
CALSCALE:GREGORIAN
METHOD:PUBLISH
X-WR-CALNAME:Corridas de Rua - RS
X-ORIGINAL-URL:https://corridasderuars.com.br
X-WR-CALDESC:Events for Corridas de Rua - RS
BEGIN:VEVENT
DTSTART;TZID=UTC+0:20190224T080000
DTEND;TZID=UTC+0:20190224T080000
DTSTAMP:20260419T164155
CREATED:20190201T201911Z
LAST-MODIFIED:20190201T201911Z
UID:4800-1550995200-1550995200@corridasderuars.com.br
SUMMARY:Treino de Carnaval
DESCRIPTION:
URL:https://corridasderuars.com.br/evento/treino-de-carnaval/
ATTACH;FMTTYPE=image/jpeg:https://corridasderuars.com.br/wp-content/uploads/2017/07/bg31.jpg
END:VEVENT
END:VCALENDAR