BEGIN:VCALENDAR
VERSION:2.0
PRODID:-//Corridas de Rua - RS - ECPv4.5.7//NONSGML v1.0//EN
CALSCALE:GREGORIAN
METHOD:PUBLISH
X-WR-CALNAME:Corridas de Rua - RS
X-ORIGINAL-URL:https://corridasderuars.com.br
X-WR-CALDESC:Events for Corridas de Rua - RS
BEGIN:VEVENT
DTSTART;TZID=UTC+0:20171118T160000
DTEND;TZID=UTC+0:20171118T160000
DTSTAMP:20260420T071213
CREATED:20171101T174853Z
LAST-MODIFIED:20171101T174920Z
UID:3039-1511020800-1511020800@corridasderuars.com.br
SUMMARY:Treino de Aniversário Corrida de Sexta
DESCRIPTION:
URL:https://corridasderuars.com.br/evento/treino-de-aniversario-corrida-de-sexta/
CATEGORIES:12km
ATTACH;FMTTYPE=image/jpeg:https://corridasderuars.com.br/wp-content/uploads/2017/07/bg24-1.jpg
END:VEVENT
END:VCALENDAR