BEGIN:VCALENDAR
VERSION:2.0
PRODID:-//Corridas de Rua - RS - ECPv4.5.7//NONSGML v1.0//EN
CALSCALE:GREGORIAN
METHOD:PUBLISH
X-WR-CALNAME:Corridas de Rua - RS
X-ORIGINAL-URL:https://corridasderuars.com.br
X-WR-CALDESC:Events for Corridas de Rua - RS
BEGIN:VEVENT
DTSTART;TZID=UTC+0:20180225T083000
DTEND;TZID=UTC+0:20180225T083000
DTSTAMP:20260420T035009
CREATED:20180219T132812Z
LAST-MODIFIED:20180219T132812Z
UID:3598-1519547400-1519547400@corridasderuars.com.br
SUMMARY:Treino Corrida e Caminhada no Big
DESCRIPTION:
URL:https://corridasderuars.com.br/evento/treino-corrida-e-caminhada-no-big/
CATEGORIES:1.9km,5.8km
ATTACH;FMTTYPE=image/jpeg:https://corridasderuars.com.br/wp-content/uploads/2017/07/bg37.jpg
END:VEVENT
END:VCALENDAR