BEGIN:VCALENDAR
VERSION:2.0
PRODID:-//Corridas de Rua - RS - ECPv4.5.7//NONSGML v1.0//EN
CALSCALE:GREGORIAN
METHOD:PUBLISH
X-WR-CALNAME:Corridas de Rua - RS
X-ORIGINAL-URL:https://corridasderuars.com.br
X-WR-CALDESC:Events for Corridas de Rua - RS
BEGIN:VEVENT
DTSTART;TZID=UTC+0:20180930T080000
DTEND;TZID=UTC+0:20180930T080000
DTSTAMP:20260419T214112
CREATED:20180912T115207Z
LAST-MODIFIED:20180912T115238Z
UID:4246-1538294400-1538294400@corridasderuars.com.br
SUMMARY:Treinão Cafezão AEGC de Primavera
DESCRIPTION:
URL:https://corridasderuars.com.br/evento/treinao-cafezao-aegc-de-primavera/
CATEGORIES:3km,4km,5km
ATTACH;FMTTYPE=image/jpeg:https://corridasderuars.com.br/wp-content/uploads/2017/07/bg4-1.jpg
END:VEVENT
END:VCALENDAR