BEGIN:VCALENDAR
VERSION:2.0
PRODID:-//Corridas de Rua - RS - ECPv4.5.7//NONSGML v1.0//EN
CALSCALE:GREGORIAN
METHOD:PUBLISH
X-WR-CALNAME:Corridas de Rua - RS
X-ORIGINAL-URL:https://corridasderuars.com.br
X-WR-CALDESC:Events for Corridas de Rua - RS
BEGIN:VEVENT
DTSTART;TZID=UTC+0:20171216T100000
DTEND;TZID=UTC+0:20171216T100000
DTSTAMP:20260420T071120
CREATED:20171206T132203Z
LAST-MODIFIED:20171206T132203Z
UID:3291-1513418400-1513418400@corridasderuars.com.br
SUMMARY:Treinão Aberto Sunset Challenge
DESCRIPTION:
URL:https://corridasderuars.com.br/evento/treinao-aberto-sunset-challenge/
CATEGORIES:4km,8km
ATTACH;FMTTYPE=image/jpeg:https://corridasderuars.com.br/wp-content/uploads/2017/12/bg57.jpg
END:VEVENT
END:VCALENDAR