BEGIN:VCALENDAR
VERSION:2.0
PRODID:-//Corridas de Rua - RS - ECPv4.5.7//NONSGML v1.0//EN
CALSCALE:GREGORIAN
METHOD:PUBLISH
X-WR-CALNAME:Corridas de Rua - RS
X-ORIGINAL-URL:https://corridasderuars.com.br
X-WR-CALDESC:Events for Corridas de Rua - RS
BEGIN:VEVENT
DTSTART;TZID=UTC+0:20211219T070000
DTEND;TZID=UTC+0:20211219T070000
DTSTAMP:20260421T102629
CREATED:20211125T203849Z
LAST-MODIFIED:20211125T203849Z
UID:7567-1639897200-1639897200@corridasderuars.com.br
SUMMARY:Trail Series Rainha da Fronteira - Etapa Morro do Índio
DESCRIPTION:
URL:https://corridasderuars.com.br/evento/trail-series-rainha-da-fronteira-etapa-morro-do-indio/
CATEGORIES:15km
ATTACH;FMTTYPE=image/jpeg:https://corridasderuars.com.br/wp-content/uploads/2019/08/bg204.jpg
END:VEVENT
END:VCALENDAR