BEGIN:VCALENDAR
VERSION:2.0
PRODID:-//Corridas de Rua - RS - ECPv4.5.7//NONSGML v1.0//EN
CALSCALE:GREGORIAN
METHOD:PUBLISH
X-WR-CALNAME:Corridas de Rua - RS
X-ORIGINAL-URL:https://corridasderuars.com.br
X-WR-CALDESC:Events for Corridas de Rua - RS
BEGIN:VEVENT
DTSTART;TZID=UTC+0:20210912T080000
DTEND;TZID=UTC+0:20210912T080000
DTSTAMP:20260421T084149
CREATED:20210730T145528Z
LAST-MODIFIED:20210730T145528Z
UID:7255-1631433600-1631433600@corridasderuars.com.br
SUMMARY:Trail Series Rainha da Fronteira - 2ª Etapa Caminho do forte
DESCRIPTION:
URL:https://corridasderuars.com.br/evento/trail-series-rainha-da-fronteira-2a-etapa-caminho-do-forte/
CATEGORIES:13km
ATTACH;FMTTYPE=image/jpeg:https://corridasderuars.com.br/wp-content/uploads/2019/08/bg204.jpg
END:VEVENT
END:VCALENDAR