BEGIN:VCALENDAR
VERSION:2.0
PRODID:-//Corridas de Rua - RS - ECPv4.5.7//NONSGML v1.0//EN
CALSCALE:GREGORIAN
METHOD:PUBLISH
X-WR-CALNAME:Corridas de Rua - RS
X-ORIGINAL-URL:https://corridasderuars.com.br
X-WR-CALDESC:Events for Corridas de Rua - RS
BEGIN:VEVENT
DTSTART;TZID=UTC+0:20211205T080000
DTEND;TZID=UTC+0:20211205T080000
DTSTAMP:20260421T084150
CREATED:20210922T134221Z
LAST-MODIFIED:20210922T134221Z
UID:7374-1638691200-1638691200@corridasderuars.com.br
SUMMARY:Trail Series Fronteira da Paz - Etapa Mangueira Colorada
DESCRIPTION:
URL:https://corridasderuars.com.br/evento/trail-series-fronteira-da-paz-etapa-mangueira-colorada/
CATEGORIES:12km
ATTACH;FMTTYPE=image/jpeg:https://corridasderuars.com.br/wp-content/uploads/2019/08/bg207.jpg
END:VEVENT
END:VCALENDAR