BEGIN:VCALENDAR
VERSION:2.0
PRODID:-//Corridas de Rua - RS - ECPv4.5.7//NONSGML v1.0//EN
CALSCALE:GREGORIAN
METHOD:PUBLISH
X-WR-CALNAME:Corridas de Rua - RS
X-ORIGINAL-URL:https://corridasderuars.com.br
X-WR-CALDESC:Events for Corridas de Rua - RS
BEGIN:VEVENT
DTSTART;TZID=UTC+0:20181027T193000
DTEND;TZID=UTC+0:20181027T193000
DTSTAMP:20260419T200359
CREATED:20180802T134056Z
LAST-MODIFIED:20180802T134056Z
UID:4093-1540668600-1540668600@corridasderuars.com.br
SUMMARY:Trail Run Halloween
DESCRIPTION:
URL:https://corridasderuars.com.br/evento/trail-run-halloween/
CATEGORIES:2km,5km
ATTACH;FMTTYPE=image/jpeg:https://corridasderuars.com.br/wp-content/uploads/2017/12/bg48.jpg
END:VEVENT
END:VCALENDAR