BEGIN:VCALENDAR
VERSION:2.0
PRODID:-//Corridas de Rua - RS - ECPv4.5.7//NONSGML v1.0//EN
CALSCALE:GREGORIAN
METHOD:PUBLISH
X-WR-CALNAME:Corridas de Rua - RS
X-ORIGINAL-URL:https://corridasderuars.com.br
X-WR-CALDESC:Events for Corridas de Rua - RS
BEGIN:VEVENT
DTSTART;TZID=UTC+0:20180623T133000
DTEND;TZID=UTC+0:20180623T133000
DTSTAMP:20260419T213813
CREATED:20180518T130325Z
LAST-MODIFIED:20180518T130325Z
UID:3888-1529760600-1529760600@corridasderuars.com.br
SUMMARY:Threerace Trail Run
DESCRIPTION:
URL:https://corridasderuars.com.br/evento/threerace-trail-run/
CATEGORIES:10km,21km,5km
ATTACH;FMTTYPE=image/jpeg:https://corridasderuars.com.br/wp-content/uploads/2017/12/bg52.jpg
END:VEVENT
END:VCALENDAR