BEGIN:VCALENDAR
VERSION:2.0
PRODID:-//Corridas de Rua - RS - ECPv4.5.7//NONSGML v1.0//EN
CALSCALE:GREGORIAN
METHOD:PUBLISH
X-WR-CALNAME:Corridas de Rua - RS
X-ORIGINAL-URL:https://corridasderuars.com.br
X-WR-CALDESC:Events for Corridas de Rua - RS
BEGIN:VEVENT
DTSTART;TZID=UTC+0:20181006T133000
DTEND;TZID=UTC+0:20181006T133000
DTSTAMP:20260419T200737
CREATED:20180905T200526Z
LAST-MODIFIED:20180905T200815Z
UID:4204-1538832600-1538832600@corridasderuars.com.br
SUMMARY:Threerace Trail Run - Edição Picada Café
DESCRIPTION:
URL:https://corridasderuars.com.br/evento/threerace-trail-run-edicao-picada-cafe-2/
CATEGORIES:11.4km,21km,7.3km
ATTACH;FMTTYPE=image/jpeg:https://corridasderuars.com.br/wp-content/uploads/2017/12/bg48.jpg
END:VEVENT
END:VCALENDAR