BEGIN:VCALENDAR
VERSION:2.0
PRODID:-//Corridas de Rua - RS - ECPv4.5.7//NONSGML v1.0//EN
CALSCALE:GREGORIAN
METHOD:PUBLISH
X-WR-CALNAME:Corridas de Rua - RS
X-ORIGINAL-URL:https://corridasderuars.com.br
X-WR-CALDESC:Events for Corridas de Rua - RS
BEGIN:VEVENT
DTSTART;TZID=UTC+0:20180120T200000
DTEND;TZID=UTC+0:20180120T200000
DTSTAMP:20260420T034803
CREATED:20171128T134618Z
LAST-MODIFIED:20171204T180510Z
UID:3254-1516478400-1516478400@corridasderuars.com.br
SUMMARY:Tapes Night Run
DESCRIPTION:
URL:https://corridasderuars.com.br/evento/tapes-night-run/
CATEGORIES:4km,8km
ATTACH;FMTTYPE=image/jpeg:https://corridasderuars.com.br/wp-content/uploads/2017/12/bg56.jpg
END:VEVENT
END:VCALENDAR