BEGIN:VCALENDAR
VERSION:2.0
PRODID:-//Corridas de Rua - RS - ECPv4.5.7//NONSGML v1.0//EN
CALSCALE:GREGORIAN
METHOD:PUBLISH
X-WR-CALNAME:Corridas de Rua - RS
X-ORIGINAL-URL:https://corridasderuars.com.br
X-WR-CALDESC:Events for Corridas de Rua - RS
BEGIN:VEVENT
DTSTART;TZID=UTC+0:20170924T090000
DTEND;TZID=UTC+0:20170924T090000
DTSTAMP:20260420T040354
CREATED:20170710T195938Z
LAST-MODIFIED:20170710T195938Z
UID:2409-1506243600-1506243600@corridasderuars.com.br
SUMMARY:Tapes Day Run
DESCRIPTION:
URL:https://corridasderuars.com.br/evento/tapes-day-run/
CATEGORIES:10km,3km,5km
ATTACH;FMTTYPE=image/jpeg:https://corridasderuars.com.br/wp-content/uploads/2017/07/bg21-1.jpg
END:VEVENT
END:VCALENDAR