BEGIN:VCALENDAR
VERSION:2.0
PRODID:-//Corridas de Rua - RS - ECPv4.5.7//NONSGML v1.0//EN
CALSCALE:GREGORIAN
METHOD:PUBLISH
X-WR-CALNAME:Corridas de Rua - RS
X-ORIGINAL-URL:https://corridasderuars.com.br
X-WR-CALDESC:Events for Corridas de Rua - RS
BEGIN:VEVENT
DTSTART;TZID=UTC+0:20190216T183000
DTEND;TZID=UTC+0:20190216T183000
DTSTAMP:20260419T140744
CREATED:20181122T125438Z
LAST-MODIFIED:20181122T125438Z
UID:4552-1550341800-1550341800@corridasderuars.com.br
SUMMARY:Sunset Challenge
DESCRIPTION:
URL:https://corridasderuars.com.br/evento/sunset-challenge/
CATEGORIES:4km,8km
ATTACH;FMTTYPE=image/jpeg:https://corridasderuars.com.br/wp-content/uploads/2017/07/bg20-1.jpg
END:VEVENT
END:VCALENDAR