BEGIN:VCALENDAR
VERSION:2.0
PRODID:-//Corridas de Rua - RS - ECPv4.5.7//NONSGML v1.0//EN
CALSCALE:GREGORIAN
METHOD:PUBLISH
X-WR-CALNAME:Corridas de Rua - RS
X-ORIGINAL-URL:https://corridasderuars.com.br
X-WR-CALDESC:Events for Corridas de Rua - RS
BEGIN:VEVENT
DTSTART;TZID=UTC+0:20211211T063000
DTEND;TZID=UTC+0:20211211T063000
DTSTAMP:20260421T140054
CREATED:20210805T163736Z
LAST-MODIFIED:20210805T163736Z
UID:7276-1639204200-1639204200@corridasderuars.com.br
SUMMARY:Summer 48K
DESCRIPTION:
URL:https://corridasderuars.com.br/evento/summer-48k-5/
CATEGORIES:25km
ATTACH;FMTTYPE=image/jpeg:https://corridasderuars.com.br/wp-content/uploads/2017/12/bg40.jpg
END:VEVENT
END:VCALENDAR