BEGIN:VCALENDAR
VERSION:2.0
PRODID:-//Corridas de Rua - RS - ECPv4.5.7//NONSGML v1.0//EN
CALSCALE:GREGORIAN
METHOD:PUBLISH
X-WR-CALNAME:Corridas de Rua - RS
X-ORIGINAL-URL:https://corridasderuars.com.br
X-WR-CALDESC:Events for Corridas de Rua - RS
BEGIN:VEVENT
DTSTART;TZID=UTC+0:20211002T063000
DTEND;TZID=UTC+0:20211002T063000
DTSTAMP:20260421T100533
CREATED:20200930T170144Z
LAST-MODIFIED:20210319T190055Z
UID:6868-1633156200-1633156200@corridasderuars.com.br
SUMMARY:Summer 48K
DESCRIPTION:
URL:https://corridasderuars.com.br/evento/summer-48k-4/
CATEGORIES:25km
ATTACH;FMTTYPE=image/jpeg:https://corridasderuars.com.br/wp-content/uploads/2018/10/bg78.jpg
END:VEVENT
END:VCALENDAR