BEGIN:VCALENDAR
VERSION:2.0
PRODID:-//Corridas de Rua - RS - ECPv4.5.7//NONSGML v1.0//EN
CALSCALE:GREGORIAN
METHOD:PUBLISH
X-WR-CALNAME:Corridas de Rua - RS
X-ORIGINAL-URL:https://corridasderuars.com.br
X-WR-CALDESC:Events for Corridas de Rua - RS
BEGIN:VEVENT
DTSTART;TZID=UTC+0:20191130T073000
DTEND;TZID=UTC+0:20191130T073000
DTSTAMP:20260421T083452
CREATED:20190903T140753Z
LAST-MODIFIED:20190925T132708Z
UID:5642-1575099000-1575099000@corridasderuars.com.br
SUMMARY:Summer 48k
DESCRIPTION:
URL:https://corridasderuars.com.br/evento/summer-48k-3/
CATEGORIES:25km,48km
ATTACH;FMTTYPE=image/jpeg:https://corridasderuars.com.br/wp-content/uploads/2019/08/bg210.jpg
END:VEVENT
END:VCALENDAR