BEGIN:VCALENDAR
VERSION:2.0
PRODID:-//Corridas de Rua - RS - ECPv4.5.7//NONSGML v1.0//EN
CALSCALE:GREGORIAN
METHOD:PUBLISH
X-WR-CALNAME:Corridas de Rua - RS
X-ORIGINAL-URL:https://corridasderuars.com.br
X-WR-CALDESC:Events for Corridas de Rua - RS
BEGIN:VEVENT
DTSTART;TZID=UTC+0:20181201T073000
DTEND;TZID=UTC+0:20181201T073000
DTSTAMP:20260420T051319
CREATED:20180817T135826Z
LAST-MODIFIED:20180817T135826Z
UID:4145-1543649400-1543649400@corridasderuars.com.br
SUMMARY:Summer 48k
DESCRIPTION:
URL:https://corridasderuars.com.br/evento/summer-48k-2/
CATEGORIES:25km,48km
ATTACH;FMTTYPE=image/jpeg:https://corridasderuars.com.br/wp-content/uploads/2017/12/bg40.jpg
END:VEVENT
END:VCALENDAR