BEGIN:VCALENDAR
VERSION:2.0
PRODID:-//Corridas de Rua - RS - ECPv4.5.7//NONSGML v1.0//EN
CALSCALE:GREGORIAN
METHOD:PUBLISH
X-WR-CALNAME:Corridas de Rua - RS
X-ORIGINAL-URL:https://corridasderuars.com.br
X-WR-CALDESC:Events for Corridas de Rua - RS
BEGIN:VEVENT
DTSTART;TZID=UTC+0:20181110T180000
DTEND;TZID=UTC+0:20181110T180000
DTSTAMP:20260419T204544
CREATED:20181025T191034Z
LAST-MODIFIED:20181025T191034Z
UID:4448-1541872800-1541872800@corridasderuars.com.br
SUMMARY:Sicredi Night Run - 4ª Edição
DESCRIPTION:
URL:https://corridasderuars.com.br/evento/sicredi-night-run-4a-edicao/
CATEGORIES:10km,5km
ATTACH;FMTTYPE=image/jpeg:https://corridasderuars.com.br/wp-content/uploads/2017/07/bg31.jpg
END:VEVENT
END:VCALENDAR