BEGIN:VCALENDAR
VERSION:2.0
PRODID:-//Corridas de Rua - RS - ECPv4.5.7//NONSGML v1.0//EN
CALSCALE:GREGORIAN
METHOD:PUBLISH
X-WR-CALNAME:Corridas de Rua - RS
X-ORIGINAL-URL:https://corridasderuars.com.br
X-WR-CALDESC:Events for Corridas de Rua - RS
BEGIN:VEVENT
DTSTART;TZID=UTC+0:20211001T060000
DTEND;TZID=UTC+0:20211006T161729
DTSTAMP:20260421T113316
CREATED:20210804T165810Z
LAST-MODIFIED:20211006T161729Z
UID:7268-1633068000-1633537049@corridasderuars.com.br
SUMMARY:Santiago 24 Horas
DESCRIPTION:
URL:https://corridasderuars.com.br/evento/santiago-24-horas/
ATTACH;FMTTYPE=image/jpeg:https://corridasderuars.com.br/wp-content/uploads/2019/08/bg206.jpg
END:VEVENT
END:VCALENDAR