BEGIN:VCALENDAR
VERSION:2.0
PRODID:-//Corridas de Rua - RS - ECPv4.5.7//NONSGML v1.0//EN
CALSCALE:GREGORIAN
METHOD:PUBLISH
X-WR-CALNAME:Corridas de Rua - RS
X-ORIGINAL-URL:https://corridasderuars.com.br
X-WR-CALDESC:Events for Corridas de Rua - RS
BEGIN:VEVENT
DTSTART;TZID=UTC+0:20190210T080000
DTEND;TZID=UTC+0:20190210T080000
DTSTAMP:20260419T124519
CREATED:20181129T143740Z
LAST-MODIFIED:20190206T183506Z
UID:4554-1549785600-1549785600@corridasderuars.com.br
SUMMARY:Santander Track&Field Run Series
DESCRIPTION:Pela segunda vez\, o Praia de Belas Shopping patrocina e recebe o   Santander Track&Field Run Series\, um dos maiores circuitos de corridas de rua da América Latina\, que realiza uma nova e exclusiva prova no dia 10 de fevereiro (domingo)\, em Porto Alegre\, com a Etapa Praia de Belas. A programação do evento tem início antes mesmo da sua disputada corrida adulta\, com aCorrida Track & Field Kids\, exclusivamente para crianças de 4 a 11 anos\, que será realizada no sábado\, (09/01)\, com largada às 16h30. \nA prova da Santander Track&Field Run Series\, etapa Praia de Belas\, no dia 10/02 (domingo)\, terá o início do seu percurso na Av. Praia de Belas e passará pelas ruas do entorno. Para essa prova são esperados mil participantes\, divididos em 2 categorias: 5km e 10km. A programação terá início às 5h30 com a retirada do chip. Na sequência\, às 7h40\, haverá um alongamento\, sendo a largada prevista para às 8h. \nAlém das corridas\, acontece também\, no dia 09/02 (sábado)\, a Track&Field Experience.\nA atração tem como objetivo proporcionar aulas e atividades únicas de modalidades especiais. Para a ocasião\, os profissionais da Fórmula Academia\, do Praia de Belas Shopping\, irão ministrar\, às 9h\, uma aula especial de funcional\, que estimula o corpo de forma global\, e\, às 10h\, uma aula de dança com fáceis movimentos ministrada de uma maneira divertida e embalada por diversos ritmos. Além das modalidades\, os participantes poderão usufruir de um ambiente completo com brunch\, massagens e outros benefícios. As inscrições para o evento podem ser feitas até o dia 08/02\, caso não se esgotem antecipadamente\, pelo site TF Sports ou pelo APP TF Sports e custam R$ 89\,00. \nO circuito\, que acontece há 16 anos\, ganhou ainda mais abrangência em 2018 com o novo acordo entre a TF Sports\, empresa do grupo Track&Field\, e o Banco Santander. A Etapa Praia de Belas faz parte das aproximadamente 240 provas que acontecerão em diversas cidades do Brasil ao longo de três anos. As inscrições para a etapa podem ser efetuadas pelo site https://www.tfsports.com.br/eventos. A entrega do kit\, composto por uma bolsa do evento e uma exclusiva camiseta Track&Field Thermodry AmniBiotech®\, acontece na loja Track&Field do Shopping Praia de Belas entre os dias 7 de fevereiro e 9 de fevereiro\, das 10h às 22h. Basta apresentar o voucher da corrida. \nServiço: \nCronograma 9 de fevereiro \nTrack&Field Experience\n8h – Abertura\n09h – Aula de Funcional\n10h – Aula de Dança \nCorrida Track & Field Kids \n16h30 – Largada \nCronograma 10 de fevereiro \nCorrida Track & Field – Adulto \n5h30 às 8h – Bloqueio do percurso\n5h30 às 7h30 – Retirada de chip\n7h40 – Alongamento\n8h – Largada\n9h20 – Premiação \nRetirada kits – Santander Track&Field Run Series Praia de Belas \nData: de 7 de fevereiro a 9 de fevereiro\nHorário de funcionamento: 10h às 22h\nLocal: Loja Track&Field do Shopping Praia de Belas \n
URL:https://corridasderuars.com.br/evento/santander-trackfield-run-series-2/
CATEGORIES:10km,5km
ATTACH;FMTTYPE=image/jpeg:https://corridasderuars.com.br/wp-content/uploads/2017/12/bg57.jpg
END:VEVENT
END:VCALENDAR