BEGIN:VCALENDAR
VERSION:2.0
PRODID:-//Corridas de Rua - RS - ECPv4.5.7//NONSGML v1.0//EN
CALSCALE:GREGORIAN
METHOD:PUBLISH
X-WR-CALNAME:Corridas de Rua - RS
X-ORIGINAL-URL:https://corridasderuars.com.br
X-WR-CALDESC:Events for Corridas de Rua - RS
BEGIN:VEVENT
DTSTART;TZID=UTC+0:20180501T090000
DTEND;TZID=UTC+0:20180501T170000
DTSTAMP:20260420T050550
CREATED:20180402T154846Z
LAST-MODIFIED:20180402T154846Z
UID:3724-1525165200-1525194000@corridasderuars.com.br
SUMMARY:Rústica Três de Maio
DESCRIPTION:
URL:https://corridasderuars.com.br/evento/rustica-tres-de-maio/
CATEGORIES:2km,8km
ATTACH;FMTTYPE=image/jpeg:https://corridasderuars.com.br/wp-content/uploads/2017/12/bg58.jpg
END:VEVENT
END:VCALENDAR