BEGIN:VCALENDAR
VERSION:2.0
PRODID:-//Corridas de Rua - RS - ECPv4.5.7//NONSGML v1.0//EN
CALSCALE:GREGORIAN
METHOD:PUBLISH
X-WR-CALNAME:Corridas de Rua - RS
X-ORIGINAL-URL:https://corridasderuars.com.br
X-WR-CALDESC:Events for Corridas de Rua - RS
BEGIN:VEVENT
DTSTART;TZID=UTC+0:20260614T100000
DTEND;TZID=UTC+0:20260614T100000
DTSTAMP:20260425T031632
CREATED:20260424T142749Z
LAST-MODIFIED:20260424T142749Z
UID:14313-1781431200-1781431200@corridasderuars.com.br
SUMMARY:Rústica Sagrado Coração de Jesus
DESCRIPTION:
URL:https://corridasderuars.com.br/evento/rustica-sagrado-coracao-de-jesus-2/
CATEGORIES:1.5km,5km
ATTACH;FMTTYPE=image/jpeg:https://corridasderuars.com.br/wp-content/uploads/2019/08/bg214.jpg
END:VEVENT
END:VCALENDAR