BEGIN:VCALENDAR
VERSION:2.0
PRODID:-//Corridas de Rua - RS - ECPv4.5.7//NONSGML v1.0//EN
CALSCALE:GREGORIAN
METHOD:PUBLISH
X-WR-CALNAME:Corridas de Rua - RS
X-ORIGINAL-URL:https://corridasderuars.com.br
X-WR-CALDESC:Events for Corridas de Rua - RS
BEGIN:VEVENT
DTSTART;TZID=UTC+0:20220424T090000
DTEND;TZID=UTC+0:20220424T090000
DTSTAMP:20260421T083616
CREATED:20220407T163455Z
LAST-MODIFIED:20220407T163455Z
UID:7976-1650790800-1650790800@corridasderuars.com.br
SUMMARY:Rústica Parobé Running 5K
DESCRIPTION:
URL:https://corridasderuars.com.br/evento/rustica-parobe-running-5k/
CATEGORIES:5km
ATTACH;FMTTYPE=image/jpeg:https://corridasderuars.com.br/wp-content/uploads/2019/08/bg221.jpg
END:VEVENT
END:VCALENDAR