BEGIN:VCALENDAR
VERSION:2.0
PRODID:-//Corridas de Rua - RS - ECPv4.5.7//NONSGML v1.0//EN
CALSCALE:GREGORIAN
METHOD:PUBLISH
X-WR-CALNAME:Corridas de Rua - RS
X-ORIGINAL-URL:https://corridasderuars.com.br
X-WR-CALDESC:Events for Corridas de Rua - RS
BEGIN:VEVENT
DTSTART;TZID=UTC+0:20211127T083000
DTEND;TZID=UTC+0:20211127T083000
DTSTAMP:20260421T124903
CREATED:20211119T180108Z
LAST-MODIFIED:20211119T180108Z
UID:7549-1638001800-1638001800@corridasderuars.com.br
SUMMARY:Rústica Novembro Azul
DESCRIPTION:
URL:https://corridasderuars.com.br/evento/rustica-novembro-azul/
CATEGORIES:4km
ATTACH;FMTTYPE=image/jpeg:https://corridasderuars.com.br/wp-content/uploads/2017/12/bg61.jpg
END:VEVENT
END:VCALENDAR