BEGIN:VCALENDAR
VERSION:2.0
PRODID:-//Corridas de Rua - RS - ECPv4.5.7//NONSGML v1.0//EN
CALSCALE:GREGORIAN
METHOD:PUBLISH
X-WR-CALNAME:Corridas de Rua - RS
X-ORIGINAL-URL:https://corridasderuars.com.br
X-WR-CALDESC:Events for Corridas de Rua - RS
BEGIN:VEVENT
DTSTART;TZID=UTC+0:20180530T200000
DTEND;TZID=UTC+0:20180530T200000
DTSTAMP:20260419T215410
CREATED:20180511T133421Z
LAST-MODIFIED:20180511T133421Z
UID:3872-1527710400-1527710400@corridasderuars.com.br
SUMMARY:Rústica Noturna e Caminhada DDD 2018
DESCRIPTION:
URL:https://corridasderuars.com.br/evento/rustica-noturna-e-caminhada-ddd-2018/
CATEGORIES:4.5km
ATTACH;FMTTYPE=image/jpeg:https://corridasderuars.com.br/wp-content/uploads/2017/12/bg60.jpg
END:VEVENT
END:VCALENDAR