BEGIN:VCALENDAR
VERSION:2.0
PRODID:-//Corridas de Rua - RS - ECPv4.5.7//NONSGML v1.0//EN
CALSCALE:GREGORIAN
METHOD:PUBLISH
X-WR-CALNAME:Corridas de Rua - RS
X-ORIGINAL-URL:https://corridasderuars.com.br
X-WR-CALDESC:Events for Corridas de Rua - RS
BEGIN:VEVENT
DTSTART;TZID=UTC+0:20180204T090000
DTEND;TZID=UTC+0:20180204T090000
DTSTAMP:20260420T051816
CREATED:20180110T190208Z
LAST-MODIFIED:20180110T190241Z
UID:3417-1517734800-1517734800@corridasderuars.com.br
SUMMARY:Rústica MC Fitness
DESCRIPTION:
URL:https://corridasderuars.com.br/evento/rustica-mc-fitness/
CATEGORIES:5.4km
ATTACH;FMTTYPE=image/jpeg:https://corridasderuars.com.br/wp-content/uploads/2017/07/bg14-1.jpg
END:VEVENT
END:VCALENDAR