BEGIN:VCALENDAR
VERSION:2.0
PRODID:-//Corridas de Rua - RS - ECPv4.5.7//NONSGML v1.0//EN
CALSCALE:GREGORIAN
METHOD:PUBLISH
X-WR-CALNAME:Corridas de Rua - RS
X-ORIGINAL-URL:https://corridasderuars.com.br
X-WR-CALDESC:Events for Corridas de Rua - RS
BEGIN:VEVENT
DTSTART;TZID=UTC+0:20171126T090000
DTEND;TZID=UTC+0:20171126T090000
DTSTAMP:20260420T084006
CREATED:20171025T181507Z
LAST-MODIFIED:20171114T175205Z
UID:2948-1511686800-1511686800@corridasderuars.com.br
SUMMARY:Rústica Marista Santo Ângelo
DESCRIPTION:
URL:https://corridasderuars.com.br/evento/rustica-marista-santo-angelo/
CATEGORIES:1.5km,5km
ATTACH;FMTTYPE=image/jpeg:https://corridasderuars.com.br/wp-content/uploads/2017/07/bg11-1.jpg
END:VEVENT
END:VCALENDAR