BEGIN:VCALENDAR
VERSION:2.0
PRODID:-//Corridas de Rua - RS - ECPv4.5.7//NONSGML v1.0//EN
CALSCALE:GREGORIAN
METHOD:PUBLISH
X-WR-CALNAME:Corridas de Rua - RS
X-ORIGINAL-URL:https://corridasderuars.com.br
X-WR-CALDESC:Events for Corridas de Rua - RS
BEGIN:VEVENT
DTSTART;TZID=UTC+0:20171112T090000
DTEND;TZID=UTC+0:20171112T090000
DTSTAMP:20260420T070926
CREATED:20171025T185403Z
LAST-MODIFIED:20171114T175449Z
UID:2983-1510477200-1510477200@corridasderuars.com.br
SUMMARY:Rústica K:10 Suplementos
DESCRIPTION:
URL:https://corridasderuars.com.br/evento/rustica-k10-suplementos/
CATEGORIES:2.9km,5km
ATTACH;FMTTYPE=image/jpeg:https://corridasderuars.com.br/wp-content/uploads/2017/07/bg16-1.jpg
END:VEVENT
END:VCALENDAR