BEGIN:VCALENDAR
VERSION:2.0
PRODID:-//Corridas de Rua - RS - ECPv4.5.7//NONSGML v1.0//EN
CALSCALE:GREGORIAN
METHOD:PUBLISH
X-WR-CALNAME:Corridas de Rua - RS
X-ORIGINAL-URL:https://corridasderuars.com.br
X-WR-CALDESC:Events for Corridas de Rua - RS
BEGIN:VEVENT
DTSTART;TZID=UTC+0:20170820T090000
DTEND;TZID=UTC+0:20170820T090000
DTSTAMP:20260420T065816
CREATED:20170710T183526Z
LAST-MODIFIED:20170710T183526Z
UID:2363-1503219600-1503219600@corridasderuars.com.br
SUMMARY:Rústica em Homenagem ao 43° Aniversário CRPO-Sul
DESCRIPTION:
URL:https://corridasderuars.com.br/evento/rustica-em-homenagem-ao-43-aniversario-crpo-sul/
CATEGORIES:5km
ATTACH;FMTTYPE=image/jpeg:https://corridasderuars.com.br/wp-content/uploads/2017/07/bg18-1.jpg
END:VEVENT
END:VCALENDAR