BEGIN:VCALENDAR
VERSION:2.0
PRODID:-//Corridas de Rua - RS - ECPv4.5.7//NONSGML v1.0//EN
CALSCALE:GREGORIAN
METHOD:PUBLISH
X-WR-CALNAME:Corridas de Rua - RS
X-ORIGINAL-URL:https://corridasderuars.com.br
X-WR-CALDESC:Events for Corridas de Rua - RS
BEGIN:VEVENT
DTSTART;TZID=UTC+0:20190501T173000
DTEND;TZID=UTC+0:20190501T173000
DTSTAMP:20260420T070811
CREATED:20190408T172804Z
LAST-MODIFIED:20190408T172804Z
UID:5042-1556731800-1556731800@corridasderuars.com.br
SUMMARY:Rústica do Trabalhador
DESCRIPTION:
URL:https://corridasderuars.com.br/evento/rustica-do-trabalhador/
CATEGORIES:5.6km
ATTACH;FMTTYPE=image/jpeg:https://corridasderuars.com.br/wp-content/uploads/2017/12/bg55.jpg
END:VEVENT
END:VCALENDAR