BEGIN:VCALENDAR
VERSION:2.0
PRODID:-//Corridas de Rua - RS - ECPv4.5.7//NONSGML v1.0//EN
CALSCALE:GREGORIAN
METHOD:PUBLISH
X-WR-CALNAME:Corridas de Rua - RS
X-ORIGINAL-URL:https://corridasderuars.com.br
X-WR-CALDESC:Events for Corridas de Rua - RS
BEGIN:VEVENT
DTSTART;TZID=UTC+0:20191020T090000
DTEND;TZID=UTC+0:20191020T090000
DTSTAMP:20260420T083537
CREATED:20190923T132737Z
LAST-MODIFIED:20190923T132737Z
UID:5708-1571562000-1571562000@corridasderuars.com.br
SUMMARY:Rústica do Estudante
DESCRIPTION:
URL:https://corridasderuars.com.br/evento/rustica-do-estudante/
CATEGORIES:4km,8km
ATTACH;FMTTYPE=image/jpeg:https://corridasderuars.com.br/wp-content/uploads/2017/07/bg6-1.jpg
END:VEVENT
END:VCALENDAR