BEGIN:VCALENDAR
VERSION:2.0
PRODID:-//Corridas de Rua - RS - ECPv4.5.7//NONSGML v1.0//EN
CALSCALE:GREGORIAN
METHOD:PUBLISH
X-WR-CALNAME:Corridas de Rua - RS
X-ORIGINAL-URL:https://corridasderuars.com.br
X-WR-CALDESC:Events for Corridas de Rua - RS
BEGIN:VEVENT
DTSTART;TZID=UTC+0:20190501T090000
DTEND;TZID=UTC+0:20190501T090000
DTSTAMP:20260420T084352
CREATED:20190311T130325Z
LAST-MODIFIED:20190311T130325Z
UID:4922-1556701200-1556701200@corridasderuars.com.br
SUMMARY:Rústica Dia do Trabalhador Sesc Viamão
DESCRIPTION:
URL:https://corridasderuars.com.br/evento/rustica-dia-do-trabalhador-sesc-viamao/
CATEGORIES:5km
ATTACH;FMTTYPE=image/jpeg:https://corridasderuars.com.br/wp-content/uploads/2017/07/bg33.jpg
END:VEVENT
END:VCALENDAR