BEGIN:VCALENDAR
VERSION:2.0
PRODID:-//Corridas de Rua - RS - ECPv4.5.7//NONSGML v1.0//EN
CALSCALE:GREGORIAN
METHOD:PUBLISH
X-WR-CALNAME:Corridas de Rua - RS
X-ORIGINAL-URL:https://corridasderuars.com.br
X-WR-CALDESC:Events for Corridas de Rua - RS
BEGIN:VEVENT
DTSTART;TZID=UTC+0:20171008T093000
DTEND;TZID=UTC+0:20171008T093000
DTSTAMP:20260420T070951
CREATED:20170829T111213Z
LAST-MODIFIED:20170829T111729Z
UID:2722-1507455000-1507455000@corridasderuars.com.br
SUMMARY:RÚSTICA DIA DE GRÊMIO
DESCRIPTION:
URL:https://corridasderuars.com.br/evento/rustica-dia-de-gremio/
CATEGORIES:3km,6km
ATTACH;FMTTYPE=image/jpeg:https://corridasderuars.com.br/wp-content/uploads/2017/07/bg8-1.jpg
END:VEVENT
END:VCALENDAR