BEGIN:VCALENDAR
VERSION:2.0
PRODID:-//Corridas de Rua - RS - ECPv4.5.7//NONSGML v1.0//EN
CALSCALE:GREGORIAN
METHOD:PUBLISH
X-WR-CALNAME:Corridas de Rua - RS
X-ORIGINAL-URL:https://corridasderuars.com.br
X-WR-CALDESC:Events for Corridas de Rua - RS
BEGIN:VEVENT
DTSTART;TZID=UTC+0:20181012T090000
DTEND;TZID=UTC+0:20181012T090000
DTSTAMP:20260420T101126
CREATED:20180620T125442Z
LAST-MODIFIED:20180620T125442Z
UID:3969-1539334800-1539334800@corridasderuars.com.br
SUMMARY:Rústica Dia da Criança Fasurgs
DESCRIPTION:
URL:https://corridasderuars.com.br/evento/rustica-dia-da-crianca-fasurgs/
CATEGORIES:5.5km
ATTACH;FMTTYPE=image/jpeg:https://corridasderuars.com.br/wp-content/uploads/2017/07/bg15-1.jpg
END:VEVENT
END:VCALENDAR