BEGIN:VCALENDAR
VERSION:2.0
PRODID:-//Corridas de Rua - RS - ECPv4.5.7//NONSGML v1.0//EN
CALSCALE:GREGORIAN
METHOD:PUBLISH
X-WR-CALNAME:Corridas de Rua - RS
X-ORIGINAL-URL:https://corridasderuars.com.br
X-WR-CALDESC:Events for Corridas de Rua - RS
BEGIN:VEVENT
DTSTART;TZID=UTC+0:20180805T090000
DTEND;TZID=UTC+0:20180805T090000
DTSTAMP:20260420T021313
CREATED:20180720T144230Z
LAST-MODIFIED:20180720T144230Z
UID:4042-1533459600-1533459600@corridasderuars.com.br
SUMMARY:Rústica de Triunfo
DESCRIPTION:
URL:https://corridasderuars.com.br/evento/rustica-de-triunfo/
CATEGORIES:4.5km
ATTACH;FMTTYPE=image/jpeg:https://corridasderuars.com.br/wp-content/uploads/2017/12/bg63.jpg
END:VEVENT
END:VCALENDAR